BEGIN:VCALENDAR
VERSION:2.0
METHOD:PUBLISH
BEGIN:VEVENT
ORGANIZER:MAILTO:
DTSTART:20260618T120000Z
DTEND:20260618T140000Z
LOCATION:Hemel Hempstead United Kingdom
SUMMARY:Visit and Guided Tour of Frogmore Paper Mill
DESCRIPTION;ENCODING=QUOTED-PRINTABLE:This is an Coventry and Warwickshire Retired Engineers event
X-ALT-DESC;FMTTYPE=text/html:<html><body>This is an Coventry and Warwickshire Retired Engineers event</body></html>
CLASS:PUBLIC
END:VEVENT
END:VCALENDAR