BEGIN:VCALENDAR
VERSION:2.0
METHOD:PUBLISH
BEGIN:VEVENT
ORGANIZER:MAILTO:
DTSTART:20260624T093000Z
DTEND:20260624T163000Z
LOCATION:
SUMMARY:Recruiting inclusively in STEM
DESCRIPTION;ENCODING=QUOTED-PRINTABLE:Designed for professionals and teams involved in recruiting for STEM roles who want to embed equity and inclusion into their hiring practices.
X-ALT-DESC;FMTTYPE=text/html:<html><body>Designed for professionals and teams involved in recruiting for STEM roles who want to embed equity and inclusion into their hiring practices.</body></html>
CLASS:PUBLIC
END:VEVENT
END:VCALENDAR