BEGIN:VCALENDAR
VERSION:2.0
METHOD:PUBLISH
BEGIN:VEVENT
ORGANIZER:MAILTO:
DTSTART:20260623T120000Z
DTEND:20260623T130000Z
LOCATION:Stevenage United Kingdom
SUMMARY:Introduction to negotiation
DESCRIPTION;ENCODING=QUOTED-PRINTABLE:This practical course explores, and allows you to practice, negotiation with a view to ensure a fair and mutual outcome for both parties.
X-ALT-DESC;FMTTYPE=text/html:<html><body>This practical course explores, and allows you to practice, negotiation with a view to ensure a fair and mutual outcome for both parties. </body></html>
CLASS:PUBLIC
END:VEVENT
END:VCALENDAR