BEGIN:VCALENDAR
VERSION:2.0
METHOD:PUBLISH
BEGIN:VEVENT
ORGANIZER:MAILTO:
DTSTART:20260618T120027Z
DTEND:20260618T130027Z
LOCATION:
SUMMARY:Schelkunoff Approach to Shielding: issues regarding measurements validation and standardization
DESCRIPTION;ENCODING=QUOTED-PRINTABLE:Our exposure reviews the theoretical and technical aspects of etectromagnetic shielding (SE or SEdB) measurements in the extended frequency range 20Hz-18GHz, as derived from the worldwide specific bib
X-ALT-DESC;FMTTYPE=text/html:<html><body>Our exposure reviews the theoretical and technical aspects of etectromagnetic shielding (SE or SEdB) measurements in the extended frequency range 20Hz-18GHz, as derived from the worldwide specific bib</body></html>
CLASS:PUBLIC
END:VEVENT
END:VCALENDAR