BEGIN:VCALENDAR
VERSION:2.0
METHOD:PUBLISH
BEGIN:VEVENT
ORGANIZER:MAILTO:
DTSTART:20260421T190049Z
DTEND:20260421T210049Z
LOCATION:
SUMMARY:Data Center Webinar by Equinix
DESCRIPTION;ENCODING=QUOTED-PRINTABLE:This is a compelling opportunity to gain practical, expert-backed knowledge on the engineering, operation, and sustainable evolution of modern data centers.
X-ALT-DESC;FMTTYPE=text/html:<html><body>This is a compelling opportunity to gain practical, expert-backed knowledge on the engineering, operation, and sustainable evolution of modern data centers.</body></html>
CLASS:PUBLIC
END:VEVENT
END:VCALENDAR