BEGIN:VCALENDAR
VERSION:2.0
METHOD:PUBLISH
BEGIN:VEVENT
ORGANIZER:MAILTO:
DTSTART:20260526T120048Z
DTEND:20260527T020048Z
LOCATION:Oxford United Kingdom
SUMMARY:BMW Mini Cowley Site Tour
DESCRIPTION;ENCODING=QUOTED-PRINTABLE:Experience the most exciting elements of car production in around 100 minutes from the so-called body in white with the body shell, to the finished personalised
X-ALT-DESC;FMTTYPE=text/html:<html><body>Experience the most exciting elements of car production in around 100 minutes from the so-called body in white with the body shell, to the finished personalised </body></html>
CLASS:PUBLIC
END:VEVENT
END:VCALENDAR