BEGIN:VCALENDAR
VERSION:2.0
METHOD:PUBLISH
BEGIN:VEVENT
ORGANIZER:MAILTO:
DTSTART:20260618T180051Z
DTEND:20260618T200051Z
LOCATION:Reading United Kingdom
SUMMARY:AI-driven, sensor-based, non-imaging systems for patient monitoring
DESCRIPTION;ENCODING=QUOTED-PRINTABLE:The event will explore pioneering contributions to AI-driven, sensor-based, non-imaging systems for patient monitoring.
X-ALT-DESC;FMTTYPE=text/html:<html><body>The event will explore pioneering contributions to AI-driven, sensor-based, non-imaging systems for patient monitoring. </body></html>
CLASS:PUBLIC
END:VEVENT
END:VCALENDAR